BEGIN:VCALENDAR
VERSION:2.0
CALSCALE:GREGORIAN
PRODID:-//Diputació de Barcelona//DibaCMS//EN
BEGIN:VEVENT
UID:17661
DTSTAMP:20260425T133830
DTSTART:20241029T000000
DTEND:20241112T000000
SUMMARY:25N: Exposició fotogràfica «Dones trencant barreres. Transformant les ciutats mediterrànies»
LOCATION:A la sala d’exposicions del Centre Cultural de Bellavista. 
METHOD:PUBLISH
X-WR-CALNAME:ajuntament@lesfranqueses.cat
X-WR-TIMEZONE:Europe/Madrid
DESCRIPTION:
URI:https://www.lesfranqueses.cat/actualitat/agenda/agenda-dactivitats/25n-exposicio-fotografica-dones-trencant-barreres-transformant-les-ciutats-mediterranies.html
CLASS:PUBLIC
END:VEVENT
END:VCALENDAR
