BEGIN:VCALENDAR
VERSION:2.0
CALSCALE:GREGORIAN
PRODID:-//Diputació de Barcelona//DibaCMS//EN
BEGIN:VEVENT
UID:17657
DTSTAMP:20260425T172443
DTSTART:20241031T000000
DTEND:20241031T000000
SUMMARY:XV Edició del Túnel del Terror- TUTMOSISTTT
LOCATION:Recinte Consell del Poble de Llerona 
METHOD:PUBLISH
X-WR-CALNAME:ajuntament@lesfranqueses.cat
X-WR-TIMEZONE:Europe/Madrid
DESCRIPTION:Halloween 2024. Túnel del terror interactiu 

Per a majors de 18 anys, amb contingut explícit.
Amb DJs Félix Pascual i Cherry
  - Aparcament i espectacles exteriors gratuïts
  - Zona infantil "Magicween" i túnel infantil
  - Zona de restauració
Entrades anticipades: Disponibles a www.milnotes.com
Org. U.S. Corro d'Amunt
Col·lab.Ajuntament de les Franqueses del Vallès, Reckitt
Patrocina: Marthe,Ferretería Teix,Felmar,Deco Hogar,Copy Slow,Mas Code, Churros Factory
Milnotes Productions

 

URI:https://www.lesfranqueses.cat/actualitat/agenda/agenda-dactivitats/xv-edicio-del-tunel-del-terror-tutmosisttt.html
CLASS:PUBLIC
END:VEVENT
END:VCALENDAR
