BEGIN:VCALENDAR
VERSION:2.0
CALSCALE:GREGORIAN
PRODID:-//Diputació de Barcelona//DibaCMS//EN
BEGIN:VEVENT
UID:17632
DTSTAMP:20260426T021736
DTSTART:20241128T180000
DTEND:20241128T180000
SUMMARY:Ítaca. Berenar de paraules: Visita de l’escriptor Àngel Burgas
LOCATION: Biblioteca Municipal de Bellavista. Centre Cultural de Bellavista 
METHOD:PUBLISH
X-WR-CALNAME:ajuntament@lesfranqueses.cat
X-WR-TIMEZONE:Europe/Madrid
DESCRIPTION:
URI:https://www.lesfranqueses.cat/actualitat/agenda/agenda-dactivitats/itaca-berenar-de-paraules-visita-de-lescriptor-angel-burgas.html
CLASS:PUBLIC
END:VEVENT
END:VCALENDAR
