BEGIN:VCALENDAR
VERSION:2.0
CALSCALE:GREGORIAN
PRODID:-//Diputació de Barcelona//DibaCMS//EN
BEGIN:VEVENT
UID:17631
DTSTAMP:20260425T185738
DTSTART:20241122T180000
DTEND:20241122T180000
SUMMARY:Espais de lectura: “La madre de Frankenstein”
LOCATION: Biblioteca Municipal de Corró d’Aval 
METHOD:PUBLISH
X-WR-CALNAME:ajuntament@lesfranqueses.cat
X-WR-TIMEZONE:Europe/Madrid
DESCRIPTION:
URI:https://www.lesfranqueses.cat/actualitat/agenda/agenda-dactivitats/espais-de-lectura-la-madre-de-frankenstein.html
CLASS:PUBLIC
END:VEVENT
END:VCALENDAR
