BEGIN:VCALENDAR
VERSION:2.0
CALSCALE:GREGORIAN
PRODID:-//Diputació de Barcelona//DibaCMS//EN
BEGIN:VEVENT
UID:17630
DTSTAMP:20260425T173447
DTSTART:20241107T180000
DTEND:20241107T180000
SUMMARY:Espais de lectura: Tertúlia literària sobre l’obra Arada torta d’Itamar Vieira
LOCATION:Biblioteca Municipal de Bellavista. Centre Cultural de Bellavista 
METHOD:PUBLISH
X-WR-CALNAME:ajuntament@lesfranqueses.cat
X-WR-TIMEZONE:Europe/Madrid
DESCRIPTION:
URI:https://www.lesfranqueses.cat/actualitat/agenda/agenda-dactivitats/espais-de-lectura-tertulia-literaria-sobre-lobra-arada-torta-ditamar-vieira.html
CLASS:PUBLIC
END:VEVENT
END:VCALENDAR
