BEGIN:VCALENDAR
VERSION:2.0
CALSCALE:GREGORIAN
PRODID:-//Diputació de Barcelona//DibaCMS//EN
BEGIN:VEVENT
UID:17629
DTSTAMP:20260425T144828
DTSTART:20241107T173000
DTEND:20241107T173000
SUMMARY:Hora del conte + 3. El coet invisible, contes per volar
LOCATION:Biblioteca Municipal de Corró d’Avall. Espai Can Prat 
METHOD:PUBLISH
X-WR-CALNAME:ajuntament@lesfranqueses.cat
X-WR-TIMEZONE:Europe/Madrid
DESCRIPTION:
URI:https://www.lesfranqueses.cat/actualitat/agenda/agenda-dactivitats/hora-del-conte--3-el-coet-invisible-contes-per-volar.html
CLASS:PUBLIC
END:VEVENT
END:VCALENDAR
