BEGIN:VCALENDAR
VERSION:2.0
CALSCALE:GREGORIAN
PRODID:-//Diputació de Barcelona//DibaCMS//EN
BEGIN:VEVENT
UID:17628
DTSTAMP:20260425T133815
DTSTART:20241106T170000
DTEND:20241106T190000
SUMMARY:Taller sobre l’ofici de la cura de la salut
LOCATION:Menjador de l’Escola Colors 
METHOD:PUBLISH
X-WR-CALNAME:ajuntament@lesfranqueses.cat
X-WR-TIMEZONE:Europe/Madrid
DESCRIPTION:
URI:https://www.lesfranqueses.cat/actualitat/agenda/agenda-dactivitats/taller-sobre-lofici-de-la-cura-de-la-salut.html
CLASS:PUBLIC
END:VEVENT
END:VCALENDAR
