BEGIN:VCALENDAR
VERSION:2.0
CALSCALE:GREGORIAN
PRODID:-//Diputació de Barcelona//DibaCMS//EN
BEGIN:VEVENT
UID:15472
DTSTAMP:20260425T150435
DTSTART:20241031T000000
DTEND:20241103T235500
SUMMARY:Màster nacional de tennis en cadira de rodes
LOCATION:Zona Esportiva Municipal, s/n 08521 Les Franqueses del Vallès (Corró d'Avall)
METHOD:PUBLISH
X-WR-CALNAME:ajuntament@lesfranqueses.cat
X-WR-TIMEZONE:Europe/Madrid
DESCRIPTION:
URI:https://www.lesfranqueses.cat/actualitat/agenda/agenda-dactivitats/master-nacional-de-tennis-en-cadira-de-rodes.html
CLASS:PUBLIC
END:VEVENT
END:VCALENDAR
