BEGIN:VCALENDAR
VERSION:2.0
CALSCALE:GREGORIAN
PRODID:-//Diputació de Barcelona//DibaCMS//EN
BEGIN:VEVENT
UID:15471
DTSTAMP:20260425T143343
DTSTART:20241030T100000
DTEND:20241030T210000
SUMMARY:Donació de sang i plasma
LOCATION:Casal d’Avis de Bellavista 
METHOD:PUBLISH
X-WR-CALNAME:ajuntament@lesfranqueses.cat
X-WR-TIMEZONE:Europe/Madrid
DESCRIPTION:
URI:https://www.lesfranqueses.cat/actualitat/agenda/agenda-dactivitats/donacio-de-sang-i-plasma.html
CLASS:PUBLIC
END:VEVENT
END:VCALENDAR
