BEGIN:VCALENDAR
VERSION:2.0
CALSCALE:GREGORIAN
PRODID:-//Diputació de Barcelona//DibaCMS//EN
BEGIN:VEVENT
UID:15469
DTSTAMP:20260425T233752
DTSTART:20241028T173000
DTEND:20241028T173000
SUMMARY:Hora del conte +3 diversioootat
LOCATION:Biblioteca Municipal de Bellavista.Centre Cultural de Bellavista 
METHOD:PUBLISH
X-WR-CALNAME:ajuntament@lesfranqueses.cat
X-WR-TIMEZONE:Europe/Madrid
DESCRIPTION:A càrrec de Suc de contes
Públic: famílies amb infants de 0 a 3 anys
Inscripció prèvia a partir del 21 d’octubre a la Biblioteca de Bellavista trucant al 938 404 388 o per correu electrònic a bibliotecabellavista@lesfranqueses.cat

Org.Servei de Biblioteca Municipal

URI:https://www.lesfranqueses.cat/actualitat/agenda/agenda-dactivitats/hora-del-conte-3-diversioootat.html
CLASS:PUBLIC
END:VEVENT
END:VCALENDAR
