BEGIN:VCALENDAR
VERSION:2.0
CALSCALE:GREGORIAN
PRODID:-//Diputació de Barcelona//DibaCMS//EN
BEGIN:VEVENT
UID:15466
DTSTAMP:20260425T143419
DTSTART:20241026T200000
DTEND:20241026T200000
SUMMARY:Espectacle, humor & co. amor3
LOCATION:
METHOD:PUBLISH
X-WR-CALNAME:ajuntament@lesfranqueses.cat
X-WR-TIMEZONE:Europe/Madrid
DESCRIPTION:SHAKESPEARE AL CAP amb Cia. Fàcof

URI:https://www.lesfranqueses.cat/actualitat/agenda/agenda-dactivitats/espectacle-humor-and-co-amor3.html
CLASS:PUBLIC
END:VEVENT
END:VCALENDAR
