BEGIN:VCALENDAR
VERSION:2.0
CALSCALE:GREGORIAN
PRODID:-//Diputació de Barcelona//DibaCMS//EN
BEGIN:VEVENT
UID:15465
DTSTAMP:20260425T143536
DTSTART:20241026T170000
DTEND:20241026T170000
SUMMARY:DARK CROSS LES FRANQUESES (COPA ESPANYA CX-C2 INTERNACIONAL)
LOCATION:Carrer Holanda, s/n. 08520 Les Franqueses del Vallès
METHOD:PUBLISH
X-WR-CALNAME:ajuntament@lesfranqueses.cat
X-WR-TIMEZONE:Europe/Madrid
DESCRIPTION:
URI:https://www.lesfranqueses.cat/actualitat/agenda/agenda-dactivitats/dark-cross-les-franqueses-copa-espanya-cx-c2-internacional.html
CLASS:PUBLIC
END:VEVENT
END:VCALENDAR
