BEGIN:VCALENDAR
VERSION:2.0
CALSCALE:GREGORIAN
PRODID:-//Diputació de Barcelona//DibaCMS//EN
BEGIN:VEVENT
UID:15464
DTSTAMP:20260425T171519
DTSTART:20241026T110000
DTEND:20241026T123000
SUMMARY:Taller “RISOTERÀPIA”
LOCATION:
METHOD:PUBLISH
X-WR-CALNAME:ajuntament@lesfranqueses.cat
X-WR-TIMEZONE:Europe/Madrid
DESCRIPTION:Amb Montserrat Pedrosa Gámez.

Org.SIAD

URI:https://www.lesfranqueses.cat/actualitat/agenda/agenda-dactivitats/taller-risoterapia.html
CLASS:PUBLIC
END:VEVENT
END:VCALENDAR
