BEGIN:VCALENDAR
VERSION:2.0
CALSCALE:GREGORIAN
PRODID:-//Diputació de Barcelona//DibaCMS//EN
BEGIN:VEVENT
UID:15463
DTSTAMP:20260425T134014
DTSTART:20241026T110000
DTEND:20241026T110000
SUMMARY:XII Festa de la infància - Taller dels oficis: fem una disfressa!
LOCATION:Biblioteca Municipal de Corró d’Avall 
METHOD:PUBLISH
X-WR-CALNAME:ajuntament@lesfranqueses.cat
X-WR-TIMEZONE:Europe/Madrid
DESCRIPTION:Podràs crear una disfressa de dos oficis ben bufones!
Públic: a partir de 4 anys.
A càrrec de Paper Arrugat.
Inscripció prèvia a partir de l’18 d’octubre a la Biblioteca Municipal de Bellavista per telèfon al 938 404 388 o per correu electrònic a bibliotecabellavista@lesfranqueses.cat.

 

URI:https://www.lesfranqueses.cat/actualitat/agenda/agenda-dactivitats/15463-xii-festa-de-la-infancia-taller-dels-oficis-fem-una-disfressa.html
CLASS:PUBLIC
END:VEVENT
END:VCALENDAR
