BEGIN:VCALENDAR
VERSION:2.0
CALSCALE:GREGORIAN
PRODID:-//Diputació de Barcelona//DibaCMS//EN
BEGIN:VEVENT
UID:15461
DTSTAMP:20260425T171442
DTSTART:20241026T090000
DTEND:20241026T130000
SUMMARY:Taller d’introducció a la cistelleria
LOCATION:Aula de Natura del Falgar 
METHOD:PUBLISH
X-WR-CALNAME:ajuntament@lesfranqueses.cat
X-WR-TIMEZONE:Europe/Madrid
DESCRIPTION:Aula de Natura del Falgar
A càrrec d’Alba Sors, cistellera i tallerista.
Públic: majors de 16 anys.
Inscripció prèvia www.entrapolis.com (màxim 10 participants)

URI:https://www.lesfranqueses.cat/actualitat/agenda/agenda-dactivitats/taller-dintroduccio-a-la-cistelleria.html
CLASS:PUBLIC
END:VEVENT
END:VCALENDAR
