BEGIN:VCALENDAR
VERSION:2.0
CALSCALE:GREGORIAN
PRODID:-//Diputació de Barcelona//DibaCMS//EN
BEGIN:VEVENT
UID:15460
DTSTAMP:20260425T210828
DTSTART:20241025T173000
DTEND:20241025T193000
SUMMARY:Ítaca: taller de fotografia
LOCATION:Biblioteca Municipal de Bellavista. Centre Cultural de Bellavista 
METHOD:PUBLISH
X-WR-CALNAME:ajuntament@lesfranqueses.cat
X-WR-TIMEZONE:Europe/Madrid
DESCRIPTION:Taller dividit en dues sessions: divendres 25 d’octubre (teòrica) de 17.30 a 19.30 h, i dissabte 26 d’octubre (pràctica) d’11 a 13 h.

Públic: a partir de 12 anys

Inscripció prèvia a partir del 25 de setembre a la Biblioteca de Bellavista trucant al 938 404 388 o per correu electrònic a bibliotecabellavista@lesfranqueses.cat

Org.Servei de Biblioteca Municipal

URI:https://www.lesfranqueses.cat/actualitat/agenda/agenda-dactivitats/itaca-taller-de-fotografia.html
CLASS:PUBLIC
END:VEVENT
END:VCALENDAR
