BEGIN:VCALENDAR
VERSION:2.0
CALSCALE:GREGORIAN
PRODID:-//Diputació de Barcelona//DibaCMS//EN
BEGIN:VEVENT
UID:15459
DTSTAMP:20260425T185957
DTSTART:20241007T000000
DTEND:20241007T000000
SUMMARY:Les Golfes. Radio jove
LOCATION:Carrer de Maria Elena Maseras, 1 08521 Les Franqueses del Vallès (Bellavista)
METHOD:PUBLISH
X-WR-CALNAME:ajuntament@lesfranqueses.cat
X-WR-TIMEZONE:Europe/Madrid
DESCRIPTION:Nit temàtica jove. Portes obertes per fer cohesió entre tots i totes les joves coneix el casal juvenil municipal i gaudeix d’una vetllada molt sonada.

Aquest any la música ens portarà a fer un viatge en el temps i coneixerem diferents estils musical serà una nit plena d’activitats i tallers.
Inscripció prèvia/places limitades. 

Col·lab. Espai Zero

Més informació al 670 312 963 o a pij. franqueses@lesfranqueses.cat

Org.Centre Municipal de Joves

URI:https://www.lesfranqueses.cat/actualitat/agenda/agenda-dactivitats/les-golfes-radio-jove.html
CLASS:PUBLIC
END:VEVENT
END:VCALENDAR
