BEGIN:VCALENDAR
VERSION:2.0
CALSCALE:GREGORIAN
PRODID:-//Diputació de Barcelona//DibaCMS//EN
BEGIN:VEVENT
UID:15458
DTSTAMP:20260425T195823
DTSTART:20241025T173000
DTEND:20241025T173000
SUMMARY:Taller infantil-familiar. Juguem amb el surrealisme
LOCATION:Biblioteca Municipal de Corró d’Avall.Espai Can Prat 
METHOD:PUBLISH
X-WR-CALNAME:ajuntament@lesfranqueses.cat
X-WR-TIMEZONE:Europe/Madrid
DESCRIPTION:A càrrec de Petra Vlasman.

Públic: infants de 5 a 8 anys
Inscripció prèvia a partir del 4 d’octubre a la Biblioteca de Corró d’Avall trucant al 935 661 550 o per correu electrònic a bibliotecacorro@lesfranqueses.cat

Org.Servei de Biblioteca Municipal

URI:https://www.lesfranqueses.cat/actualitat/agenda/agenda-dactivitats/taller-infantil-familiar-juguem-amb-el-surrealisme.html
CLASS:PUBLIC
END:VEVENT
END:VCALENDAR
