BEGIN:VCALENDAR
VERSION:2.0
CALSCALE:GREGORIAN
PRODID:-//Diputació de Barcelona//DibaCMS//EN
BEGIN:VEVENT
UID:15455
DTSTAMP:20260425T121918
DTSTART:20241022T180000
DTEND:20241022T180000
SUMMARY:Xerrada esport inclusiu. Les Franqueses del Vallès, Vila Europea de l’Esport 2024
LOCATION:Centre Cultural de Bellavista. Carrer de Maria Elena Maseras, 1 08520 Les Franqueses del Vallès (Bellavista)
METHOD:PUBLISH
X-WR-CALNAME:ajuntament@lesfranqueses.cat
X-WR-TIMEZONE:Europe/Madrid
DESCRIPTION:Amb Àlex Roca Campillo, Jana Arimany Canyas i Jordi Madera Jiménez.

URI:https://www.lesfranqueses.cat/actualitat/agenda/agenda-dactivitats/xerrada-esport-inclusiu-les-franqueses-del-valles-vila-europea-de-lesport-2024.html
CLASS:PUBLIC
END:VEVENT
END:VCALENDAR
