BEGIN:VCALENDAR
VERSION:2.0
CALSCALE:GREGORIAN
PRODID:-//Diputació de Barcelona//DibaCMS//EN
BEGIN:VEVENT
UID:15454
DTSTAMP:20260425T131925
DTSTART:20241022T173000
DTEND:20241022T193000
SUMMARY:Espai zero. Preparació de golfes
LOCATION:Carrer de Maria Elena Maseras, 1 08521 Les Franqueses del Vallès (Bellavista)
METHOD:PUBLISH
X-WR-CALNAME:ajuntament@lesfranqueses.cat
X-WR-TIMEZONE:Europe/Madrid
DESCRIPTION:Més informació al 670 312 963 o a pij.franqueses@lesfranqueses.cat

URI:https://www.lesfranqueses.cat/actualitat/agenda/agenda-dactivitats/15454-espai-zero-preparacio-de-golfes.html
CLASS:PUBLIC
END:VEVENT
END:VCALENDAR
