BEGIN:VCALENDAR
VERSION:2.0
CALSCALE:GREGORIAN
PRODID:-//Diputació de Barcelona//DibaCMS//EN
BEGIN:VEVENT
UID:15449
DTSTAMP:20260425T145026
DTSTART:20241019T110000
DTEND:20241019T110000
SUMMARY:XII Festa de la infància: fem un àlbum de fotos!
LOCATION:Biblioteca Municipal de Bellavista 
METHOD:PUBLISH
X-WR-CALNAME:ajuntament@lesfranqueses.cat
X-WR-TIMEZONE:Europe/Madrid
DESCRIPTION:T’agradaria tenir un record dels millors moments??? Doncs vine al taller i deixa anar la teva imaginació .
Públic: a partir de 4 anys.
A càrrec de Mar Garriga.
Inscripció prèvia a partir de l’11 d’octubre a la Biblioteca Municipal de Bellavista per telèfon al 938 404 388 o per correu electrònic a bibliotecabellavista@lesfranqueses.cat.

URI:https://www.lesfranqueses.cat/actualitat/agenda/agenda-dactivitats/xii-festa-de-la-infancia-fem-un-album-de-fotos.html
CLASS:PUBLIC
END:VEVENT
END:VCALENDAR
