BEGIN:VCALENDAR
VERSION:2.0
CALSCALE:GREGORIAN
PRODID:-//Diputació de Barcelona//DibaCMS//EN
BEGIN:VEVENT
UID:15447
DTSTAMP:20260425T171553
DTSTART:20241018T173000
DTEND:20241018T173000
SUMMARY:Hora del conte +3 El veïnat
LOCATION:Biblioteca Municipal de Corró d’Avall. Espai Can Prat 
METHOD:PUBLISH
X-WR-CALNAME:ajuntament@lesfranqueses.cat
X-WR-TIMEZONE:Europe/Madrid
DESCRIPTION:Espectacle de narració oral especial per celebrar efemèrides literàries.
A càrrec de: LaBerta Delpoblet.
Públic: a partir de 3 anys
Inscripció prèvia a partir del 9 d’octubre a la Biblioteca de Corró d’Avall trucant al 935 661 550 o per correu electrònic a bibliotecacorro@lesfranqueses.cat
Activitat dins el Servei de Biblioteques de la Generalitat de Catalunya.

Org. Servei de Biblioteca Municipal

URI:https://www.lesfranqueses.cat/actualitat/agenda/agenda-dactivitats/hora-del-conte-3-el-veinat.html
CLASS:PUBLIC
END:VEVENT
END:VCALENDAR
