BEGIN:VCALENDAR
VERSION:2.0
CALSCALE:GREGORIAN
PRODID:-//Diputació de Barcelona//DibaCMS//EN
BEGIN:VEVENT
UID:15446
DTSTAMP:20260425T195616
DTSTART:20241017T173000
DTEND:20241017T193000
SUMMARY:Espai zero. Preparació de golfes
LOCATION:Carrer de Maria Elena Maseras, 1 08521 Les Franqueses del Vallès (Bellavista)
METHOD:PUBLISH
X-WR-CALNAME:ajuntament@lesfranqueses.cat
X-WR-TIMEZONE:Europe/Madrid
DESCRIPTION:Inscripció prèvia abans del 8 d’octubre.
Més informació al 670 312 963 o a pij.franqueses@lesfranqueses.cat

 

URI:https://www.lesfranqueses.cat/actualitat/agenda/agenda-dactivitats/espai-zero-preparacio-de-golfes.html
CLASS:PUBLIC
END:VEVENT
END:VCALENDAR
