BEGIN:VCALENDAR
VERSION:2.0
CALSCALE:GREGORIAN
PRODID:-//Diputació de Barcelona//DibaCMS//EN
BEGIN:VEVENT
UID:DI_19591@www.lesfranqueses.cat
DTSTAMP:20260420T035623
DTSTART:20260421T173000
DTEND:20260421T173000
SUMMARY:Espai Zero. Fem papiroflèxia
LOCATION:Carrer de Maria Elena Maseras, 1 08521 Les Franqueses del Vallès (Bellavista)
METHOD:PUBLISH
X-WR-CALNAME:ajuntament@lesfranqueses.cat
X-WR-TIMEZONE:Europe/Madrid
DESCRIPTION:
URI:https://www.lesfranqueses.cat/actualitat/agenda/agenda-dactivitats/espai-zero-fem-papiroflexia.html
CLASS:PUBLIC
END:VEVENT
BEGIN:VEVENT
UID:DI_19573@www.lesfranqueses.cat
DTSTAMP:20260420T035623
DTSTART:20260423T100000
DTEND:20260423T200000
SUMMARY:Sant Jordi a la Plaça de l'Espolsada
LOCATION:Plaça de l'Espolsada 
METHOD:PUBLISH
X-WR-CALNAME:ajuntament@lesfranqueses.cat
X-WR-TIMEZONE:Europe/Madrid
DESCRIPTION:
URI:https://www.lesfranqueses.cat/actualitat/agenda/agenda-dactivitats/sant-jordi-a-la-placa-de-lespolsada.html
CLASS:PUBLIC
END:VEVENT
BEGIN:VEVENT
UID:DI_19572@www.lesfranqueses.cat
DTSTAMP:20260420T035623
DTSTART:20260423T163000
DTEND:20260423T193000
SUMMARY:Sant Jordi: Pòdcast de Beatrix Potter
LOCATION:Avinguda Mossèn Pere Baixeras, s/n 08520 Les Franqueses del Vallès (Corró d'Avall)
METHOD:PUBLISH
X-WR-CALNAME:ajuntament@lesfranqueses.cat
X-WR-TIMEZONE:Europe/Madrid
DESCRIPTION:
URI:https://www.lesfranqueses.cat/actualitat/agenda/agenda-dactivitats/sant-jordi-podcast-de-beatrix-potter.html
CLASS:PUBLIC
END:VEVENT
BEGIN:VEVENT
UID:DI_19592@www.lesfranqueses.cat
DTSTAMP:20260420T035623
DTSTART:20260423T173000
DTEND:20260423T173000
SUMMARY:Espai Zero. Sant Jordi
LOCATION:Carrer de Maria Elena Maseras, 1 08521 Les Franqueses del Vallès (Bellavista)
METHOD:PUBLISH
X-WR-CALNAME:ajuntament@lesfranqueses.cat
X-WR-TIMEZONE:Europe/Madrid
DESCRIPTION:
URI:https://www.lesfranqueses.cat/actualitat/agenda/agenda-dactivitats/espai-zero-sant-jordi.html
CLASS:PUBLIC
END:VEVENT
BEGIN:VEVENT
UID:DI_19563@www.lesfranqueses.cat
DTSTAMP:20260420T035623
DTSTART:20260424T173000
DTEND:20260424T173000
SUMMARY:Xerrada: "El cervell de l'adolescent"
LOCATION:Verge de Montserrat, 21 Les Franqueses del Vallès 08520 les Franqueses del Vallès
METHOD:PUBLISH
X-WR-CALNAME:ajuntament@lesfranqueses.cat
X-WR-TIMEZONE:Europe/Madrid
DESCRIPTION:
URI:https://www.lesfranqueses.cat/actualitat/agenda/agenda-dactivitats/xerrada-el-cervell-de-ladolescent.html
CLASS:PUBLIC
END:VEVENT
BEGIN:VEVENT
UID:DI_19593@www.lesfranqueses.cat
DTSTAMP:20260420T035623
DTSTART:20260424T173000
DTEND:20260424T173000
SUMMARY:Espai Zero. Punt de trobada
LOCATION:Carrer de Maria Elena Maseras, 1 08521 Les Franqueses del Vallès (Bellavista)
METHOD:PUBLISH
X-WR-CALNAME:ajuntament@lesfranqueses.cat
X-WR-TIMEZONE:Europe/Madrid
DESCRIPTION:
URI:https://www.lesfranqueses.cat/actualitat/agenda/agenda-dactivitats/19593-espai-zero-punt-de-trobada.html
CLASS:PUBLIC
END:VEVENT
BEGIN:VEVENT
UID:DI_19552@www.lesfranqueses.cat
DTSTAMP:20260420T035623
DTSTART:20260424T180000
DTEND:20260424T180000
SUMMARY:Concert de primavera de l'Escola Municipal de Música de les Franqueses
LOCATION:Plaça de l'Escorxador. 
METHOD:PUBLISH
X-WR-CALNAME:ajuntament@lesfranqueses.cat
X-WR-TIMEZONE:Europe/Madrid
DESCRIPTION:
URI:https://www.lesfranqueses.cat/actualitat/agenda/agenda-dactivitats/concert-de-primavera-de-lescola-municipal-de-musica-de-les-franqueses.html
CLASS:PUBLIC
END:VEVENT
BEGIN:VEVENT
UID:DI_19636@www.lesfranqueses.cat
DTSTAMP:20260420T035623
DTSTART:20260425T100000
DTEND:20260425T100000
SUMMARY:Assemblea general ordinària de l'ADF Montseny-Congost
LOCATION:Local social de l’Ajuntament de Cànoves i Samalús. 
METHOD:PUBLISH
X-WR-CALNAME:ajuntament@lesfranqueses.cat
X-WR-TIMEZONE:Europe/Madrid
DESCRIPTION:
URI:https://www.lesfranqueses.cat/actualitat/agenda/agenda-dactivitats/assemblea-general-ordinaria-de-ladf-montseny-congost.html
CLASS:PUBLIC
END:VEVENT
BEGIN:VEVENT
UID:DI_19641@www.lesfranqueses.cat
DTSTAMP:20260420T035623
DTSTART:20260425T113000
DTEND:20260425T113000
SUMMARY:Vine i fem equip pel reciclatge a Bellavista
LOCATION:Plaça Major 
METHOD:PUBLISH
X-WR-CALNAME:ajuntament@lesfranqueses.cat
X-WR-TIMEZONE:Europe/Madrid
DESCRIPTION:
URI:https://www.lesfranqueses.cat/actualitat/agenda/agenda-dactivitats/vine-i-fem-equip-pel-reciclatge-a-bellavista.html
CLASS:PUBLIC
END:VEVENT
BEGIN:VEVENT
UID:DI_19553@www.lesfranqueses.cat
DTSTAMP:20260420T035623
DTSTART:20260425T130000
DTEND:20260425T130000
SUMMARY:TABE - Trobada d'alumnes de baix elèctric de les EMM
LOCATION:Centre Cultural de Bellavista. Carrer de Maria Elena Maseras, 1 08520 Les Franqueses del Vallès (Bellavista)
METHOD:PUBLISH
X-WR-CALNAME:ajuntament@lesfranqueses.cat
X-WR-TIMEZONE:Europe/Madrid
DESCRIPTION:
URI:https://www.lesfranqueses.cat/actualitat/agenda/agenda-dactivitats/tabe-trobada-dalumnes-de-baix-electric-de-les-emm.html
CLASS:PUBLIC
END:VEVENT
BEGIN:VEVENT
UID:DI_19623@www.lesfranqueses.cat
DTSTAMP:20260420T035623
DTSTART:20260425T170000
DTEND:20260425T194000
SUMMARY:Festeig dels Franquesins
LOCATION:Plaça de l'Ajuntament i plaça de l'Espolsada 
METHOD:PUBLISH
X-WR-CALNAME:ajuntament@lesfranqueses.cat
X-WR-TIMEZONE:Europe/Madrid
DESCRIPTION:
URI:https://www.lesfranqueses.cat/actualitat/agenda/agenda-dactivitats/festeig-dels-franquesins.html
CLASS:PUBLIC
END:VEVENT
BEGIN:VEVENT
UID:DI_19561@www.lesfranqueses.cat
DTSTAMP:20260420T035623
DTSTART:20260425T173000
DTEND:20260425T173000
SUMMARY:Dia Internacional de la Dansa
LOCATION:Plaça de l'Espolsada. 
En cas de pluja la mostra es farà a la carpa del Consell de Poble de Llerona. 
METHOD:PUBLISH
X-WR-CALNAME:ajuntament@lesfranqueses.cat
X-WR-TIMEZONE:Europe/Madrid
DESCRIPTION:
URI:https://www.lesfranqueses.cat/actualitat/agenda/agenda-dactivitats/19561-dia-internacional-de-la-dansa.html
CLASS:PUBLIC
END:VEVENT
BEGIN:VEVENT
UID:DI_19554@www.lesfranqueses.cat
DTSTAMP:20260420T035623
DTSTART:20260425T200000
DTEND:20260425T220000
SUMMARY:Concert: "Vint anys i un dia"
LOCATION:Avinguda de la Sagrera, 1 08520 Les Franqueses del Vallès (Corró d'Avall)
METHOD:PUBLISH
X-WR-CALNAME:ajuntament@lesfranqueses.cat
X-WR-TIMEZONE:Europe/Madrid
DESCRIPTION:
URI:https://www.lesfranqueses.cat/actualitat/agenda/agenda-dactivitats/concert-vint-anys-i-un-dia.html
CLASS:PUBLIC
END:VEVENT
BEGIN:VEVENT
UID:DI_19555@www.lesfranqueses.cat
DTSTAMP:20260420T035623
DTSTART:20260426T080000
DTEND:20260426T150000
SUMMARY:23a Caminada Popular de les Franqueses del Vallès
LOCATION:Sortida des de la Zona Esportiva Municipal de Corró d'Avall.  
METHOD:PUBLISH
X-WR-CALNAME:ajuntament@lesfranqueses.cat
X-WR-TIMEZONE:Europe/Madrid
DESCRIPTION:
URI:https://www.lesfranqueses.cat/actualitat/agenda/agenda-dactivitats/23a-caminada-popular-de-les-franqueses-del-valles.html
CLASS:PUBLIC
END:VEVENT
BEGIN:VEVENT
UID:DI_19556@www.lesfranqueses.cat
DTSTAMP:20260420T035623
DTSTART:20260426T100000
DTEND:20260426T140000
SUMMARY:POSTPOSAT fins el 7 de juny Retaule de primavera 2026
LOCATION:Carretera de Cànoves, s/n 08520 Les Franqueses del Vallès (Corró d'Amunt)
METHOD:PUBLISH
X-WR-CALNAME:ajuntament@lesfranqueses.cat
X-WR-TIMEZONE:Europe/Madrid
DESCRIPTION:
URI:https://www.lesfranqueses.cat/actualitat/agenda/agenda-dactivitats/postposat-fins-el-7-de-juny-retaule-de-primavera-2026.html
CLASS:PUBLIC
END:VEVENT
BEGIN:VEVENT
UID:DI_19557@www.lesfranqueses.cat
DTSTAMP:20260420T035623
DTSTART:20260426T170000
DTEND:20260426T170000
SUMMARY:Espectacle: "Diumenge tot s'ho menja"
LOCATION:Centre Cultural de Bellavista. Carrer de Maria Elena Maseras, 1 08520 Les Franqueses del Vallès (Bellavista)
METHOD:PUBLISH
X-WR-CALNAME:ajuntament@lesfranqueses.cat
X-WR-TIMEZONE:Europe/Madrid
DESCRIPTION:
URI:https://www.lesfranqueses.cat/actualitat/agenda/agenda-dactivitats/espectacle-diumenge-tot-sho-menja.html
CLASS:PUBLIC
END:VEVENT
BEGIN:VEVENT
UID:DI_19653@www.lesfranqueses.cat
DTSTAMP:20260420T035623
DTSTART:20260426T170000
DTEND:20260426T170000
SUMMARY:Sant Jordi a Corró d'Amunt
LOCATION:Carretera de Cànoves, s/n 08520 Les Franqueses del Vallès (Corró d'Amunt)
METHOD:PUBLISH
X-WR-CALNAME:ajuntament@lesfranqueses.cat
X-WR-TIMEZONE:Europe/Madrid
DESCRIPTION:
URI:https://www.lesfranqueses.cat/actualitat/agenda/agenda-dactivitats/sant-jordi-a-corro-damunt.html
CLASS:PUBLIC
END:VEVENT
BEGIN:VEVENT
UID:DI_19584@www.lesfranqueses.cat
DTSTAMP:20260420T035623
DTSTART:20260427T000000
DTEND:20260430T000000
SUMMARY:Concurs: "Juguem, en català!" a les Franqueses
LOCATION:
METHOD:PUBLISH
X-WR-CALNAME:ajuntament@lesfranqueses.cat
X-WR-TIMEZONE:Europe/Madrid
DESCRIPTION:
URI:https://www.lesfranqueses.cat/actualitat/agenda/agenda-dactivitats/concurs-juguem-en-catala-a-les-franqueses.html
CLASS:PUBLIC
END:VEVENT
BEGIN:VEVENT
UID:DI_19579@www.lesfranqueses.cat
DTSTAMP:20260420T035623
DTSTART:20260427T171500
DTEND:20260427T190000
SUMMARY:Jornada de portes obertes: Escola Bressol Municipal Cavall Fort
LOCATION:Carrer de Miquel Martí i Pol, 6-8 08520 Les Franqueses del Vallès (Corró d'Avall)
METHOD:PUBLISH
X-WR-CALNAME:ajuntament@lesfranqueses.cat
X-WR-TIMEZONE:Europe/Madrid
DESCRIPTION:
URI:https://www.lesfranqueses.cat/actualitat/agenda/agenda-dactivitats/jornada-de-portes-obertes-escola-bressol-municipal-cavall-fort.html
CLASS:PUBLIC
END:VEVENT
BEGIN:VEVENT
UID:DI_19564@www.lesfranqueses.cat
DTSTAMP:20260420T035623
DTSTART:20260427T173000
DTEND:20260427T173000
SUMMARY:Hora del conte: "Ball manetes: peix, peixet!"
LOCATION:Maria Elena Maseras, 1 Les Franqueses 08520 les Franqueses del Vallès
METHOD:PUBLISH
X-WR-CALNAME:ajuntament@lesfranqueses.cat
X-WR-TIMEZONE:Europe/Madrid
DESCRIPTION:
URI:https://www.lesfranqueses.cat/actualitat/agenda/agenda-dactivitats/hora-del-conte-ball-manetes-peix-peixet.html
CLASS:PUBLIC
END:VEVENT
BEGIN:VEVENT
UID:DI_19580@www.lesfranqueses.cat
DTSTAMP:20260420T035623
DTSTART:20260428T171500
DTEND:20260428T190000
SUMMARY:Jornada de portes obertes: Escola Bressol Municipal El Gegant del Pi
LOCATION:Carrer de Provença, 20 08521 Les Franqueses del Vallès (Bellavista)
METHOD:PUBLISH
X-WR-CALNAME:ajuntament@lesfranqueses.cat
X-WR-TIMEZONE:Europe/Madrid
DESCRIPTION:
URI:https://www.lesfranqueses.cat/actualitat/agenda/agenda-dactivitats/jornada-de-portes-obertes-escola-bressol-municipal-el-gegant-del-pi.html
CLASS:PUBLIC
END:VEVENT
BEGIN:VEVENT
UID:DI_19558@www.lesfranqueses.cat
DTSTAMP:20260420T035623
DTSTART:20260428T173000
DTEND:20260428T193000
SUMMARY:Xerrada: "Límits respectuosos i sans. No perdem la calma amb les rebequeries!"
LOCATION:Maria Elena Maseras, 1 Les Franqueses 08520 les Franqueses del Vallès
METHOD:PUBLISH
X-WR-CALNAME:ajuntament@lesfranqueses.cat
X-WR-TIMEZONE:Europe/Madrid
DESCRIPTION:
URI:https://www.lesfranqueses.cat/actualitat/agenda/agenda-dactivitats/xerrada-limits-respectuosos-i-sans-no-perdem-la-calma-amb-les-rebequeries.html
CLASS:PUBLIC
END:VEVENT
BEGIN:VEVENT
UID:DI_19594@www.lesfranqueses.cat
DTSTAMP:20260420T035623
DTSTART:20260428T173000
DTEND:20260428T173000
SUMMARY:Espai Zero. Jocs de taula
LOCATION:Carrer de Maria Elena Maseras, 1 08521 Les Franqueses del Vallès (Bellavista)
METHOD:PUBLISH
X-WR-CALNAME:ajuntament@lesfranqueses.cat
X-WR-TIMEZONE:Europe/Madrid
DESCRIPTION:
URI:https://www.lesfranqueses.cat/actualitat/agenda/agenda-dactivitats/19594-espai-zero-jocs-de-taula.html
CLASS:PUBLIC
END:VEVENT
BEGIN:VEVENT
UID:DI_19559@www.lesfranqueses.cat
DTSTAMP:20260420T035623
DTSTART:20260429T100000
DTEND:20260429T120000
SUMMARY:Taller pràctic: "Tècniques corporals per a la gestió de l'estrès"
LOCATION:Aula 2-3 del Centre Cultural Bellavista. 
METHOD:PUBLISH
X-WR-CALNAME:ajuntament@lesfranqueses.cat
X-WR-TIMEZONE:Europe/Madrid
DESCRIPTION:
URI:https://www.lesfranqueses.cat/actualitat/agenda/agenda-dactivitats/taller-practic-tecniques-corporals-per-a-la-gestio-de-lestres.html
CLASS:PUBLIC
END:VEVENT
BEGIN:VEVENT
UID:DI_19581@www.lesfranqueses.cat
DTSTAMP:20260420T035623
DTSTART:20260429T171500
DTEND:20260429T190000
SUMMARY:Jornada de portes obertes: Escola Bressol Municipal Les Tres Bessones
LOCATION:Carrer de Sant Joaquim, 85 08520 Les Franqueses del Vallès (Corró d'Avall)
METHOD:PUBLISH
X-WR-CALNAME:ajuntament@lesfranqueses.cat
X-WR-TIMEZONE:Europe/Madrid
DESCRIPTION:
URI:https://www.lesfranqueses.cat/actualitat/agenda/agenda-dactivitats/jornada-de-portes-obertes-escola-bressol-municipal-les-tres-bessones.html
CLASS:PUBLIC
END:VEVENT
BEGIN:VEVENT
UID:DI_19582@www.lesfranqueses.cat
DTSTAMP:20260420T035623
DTSTART:20260429T173000
DTEND:20260429T173000
SUMMARY:Jornada de portes obertes: Escola Municipal de Música
LOCATION:Plaça de l'Escorxador, 1 08520 Les Franqueses del Vallès (Corró d'Avall)
METHOD:PUBLISH
X-WR-CALNAME:ajuntament@lesfranqueses.cat
X-WR-TIMEZONE:Europe/Madrid
DESCRIPTION:
URI:https://www.lesfranqueses.cat/actualitat/agenda/agenda-dactivitats/jornada-de-portes-obertes-escola-municipal-de-musica.html
CLASS:PUBLIC
END:VEVENT
BEGIN:VEVENT
UID:DI_19647@www.lesfranqueses.cat
DTSTAMP:20260420T035623
DTSTART:20260430T170000
DTEND:20260430T210000
SUMMARY:Festa de la Primavera a Bellavista
LOCATION:Plaça Major de Bellavista 
METHOD:PUBLISH
X-WR-CALNAME:ajuntament@lesfranqueses.cat
X-WR-TIMEZONE:Europe/Madrid
DESCRIPTION:
URI:https://www.lesfranqueses.cat/actualitat/agenda/agenda-dactivitats/festa-de-la-primavera-a-bellavista.html
CLASS:PUBLIC
END:VEVENT
BEGIN:VEVENT
UID:DI_19595@www.lesfranqueses.cat
DTSTAMP:20260420T035623
DTSTART:20260430T173000
DTEND:20260430T173000
SUMMARY:Espai Zero. Taller de cuina
LOCATION:Carrer de Maria Elena Maseras, 1 08521 Les Franqueses del Vallès (Bellavista)
METHOD:PUBLISH
X-WR-CALNAME:ajuntament@lesfranqueses.cat
X-WR-TIMEZONE:Europe/Madrid
DESCRIPTION:
URI:https://www.lesfranqueses.cat/actualitat/agenda/agenda-dactivitats/19595-espai-zero-taller-de-cuina.html
CLASS:PUBLIC
END:VEVENT
BEGIN:VEVENT
UID:DI_19560@www.lesfranqueses.cat
DTSTAMP:20260420T035623
DTSTART:20260430T190000
DTEND:20260430T190000
SUMMARY:Ple Municipal
LOCATION:Camí Antic de Vic, 10 08520 Les Franqueses del Vallès
METHOD:PUBLISH
X-WR-CALNAME:ajuntament@lesfranqueses.cat
X-WR-TIMEZONE:Europe/Madrid
DESCRIPTION:
URI:https://www.lesfranqueses.cat/actualitat/agenda/agenda-dactivitats/19560-ple-municipal.html
CLASS:PUBLIC
END:VEVENT
BEGIN:VEVENT
UID:DI_19650@www.lesfranqueses.cat
DTSTAMP:20260420T035623
DTSTART:20260504T000000
DTEND:20260623T000000
SUMMARY:Exposició: "El Meu Mecanoscrit: cinc quaderns i un nou origen"
LOCATION:Verge de Montserrat, 21 Les Franqueses del Vallès 08520 les Franqueses del Vallès
METHOD:PUBLISH
X-WR-CALNAME:ajuntament@lesfranqueses.cat
X-WR-TIMEZONE:Europe/Madrid
DESCRIPTION:
URI:https://www.lesfranqueses.cat/actualitat/agenda/agenda-dactivitats/exposicio-el-meu-mecanoscrit-cinc-quaderns-i-un-nou-origen.html
CLASS:PUBLIC
END:VEVENT
BEGIN:VEVENT
UID:DI_19606@www.lesfranqueses.cat
DTSTAMP:20260420T035623
DTSTART:20260505T173000
DTEND:20260505T173000
SUMMARY:Espai Zero. Jocs de taula
LOCATION:Carrer de Maria Elena Maseras, 1 08521 Les Franqueses del Vallès (Bellavista)
METHOD:PUBLISH
X-WR-CALNAME:ajuntament@lesfranqueses.cat
X-WR-TIMEZONE:Europe/Madrid
DESCRIPTION:
URI:https://www.lesfranqueses.cat/actualitat/agenda/agenda-dactivitats/19606-espai-zero-jocs-de-taula.html
CLASS:PUBLIC
END:VEVENT
BEGIN:VEVENT
UID:DI_19610@www.lesfranqueses.cat
DTSTAMP:20260420T035623
DTSTART:20260507T173000
DTEND:20260507T173000
SUMMARY:Espai Zero. Construcció i taller de caixó flamenc
LOCATION:Carrer de Maria Elena Maseras, 1 08521 Les Franqueses del Vallès (Bellavista)
METHOD:PUBLISH
X-WR-CALNAME:ajuntament@lesfranqueses.cat
X-WR-TIMEZONE:Europe/Madrid
DESCRIPTION:
URI:https://www.lesfranqueses.cat/actualitat/agenda/agenda-dactivitats/espai-zero-construccio-i-taller-de-caixo-flamenc.html
CLASS:PUBLIC
END:VEVENT
BEGIN:VEVENT
UID:DI_19565@www.lesfranqueses.cat
DTSTAMP:20260420T035623
DTSTART:20260507T180000
DTEND:20260507T180000
SUMMARY:Espais de lectura. Tertúlia literària al voltant de l'obra "La mala costumbre", d'Alana S. Portero
LOCATION:Maria Elena Maseras, 1 Les Franqueses 08520 les Franqueses del Vallès
METHOD:PUBLISH
X-WR-CALNAME:ajuntament@lesfranqueses.cat
X-WR-TIMEZONE:Europe/Madrid
DESCRIPTION:
URI:https://www.lesfranqueses.cat/actualitat/agenda/agenda-dactivitats/espais-de-lectura-tertulia-literaria-al-voltant-de-lobra-la-mala-costumbre-dalana-s-portero.html
CLASS:PUBLIC
END:VEVENT
BEGIN:VEVENT
UID:DI_19611@www.lesfranqueses.cat
DTSTAMP:20260420T035623
DTSTART:20260508T173000
DTEND:20260508T173000
SUMMARY:Espai Zero. Construcció i taller de caixó flamenc
LOCATION:Carrer de Maria Elena Maseras, 1 08521 Les Franqueses del Vallès (Bellavista)
METHOD:PUBLISH
X-WR-CALNAME:ajuntament@lesfranqueses.cat
X-WR-TIMEZONE:Europe/Madrid
DESCRIPTION:
URI:https://www.lesfranqueses.cat/actualitat/agenda/agenda-dactivitats/19611-espai-zero-construccio-i-taller-de-caixo-flamenc.html
CLASS:PUBLIC
END:VEVENT
BEGIN:VEVENT
UID:DI_19566@www.lesfranqueses.cat
DTSTAMP:20260420T035623
DTSTART:20260509T110000
DTEND:20260509T110000
SUMMARY:Taller artístic inclusiu: "El món, pam a pam"
LOCATION:Verge de Montserrat, 21 Les Franqueses del Vallès 08520 les Franqueses del Vallès
METHOD:PUBLISH
X-WR-CALNAME:ajuntament@lesfranqueses.cat
X-WR-TIMEZONE:Europe/Madrid
DESCRIPTION:
URI:https://www.lesfranqueses.cat/actualitat/agenda/agenda-dactivitats/taller-artistic-inclusiu-el-mon-pam-a-pam.html
CLASS:PUBLIC
END:VEVENT
BEGIN:VEVENT
UID:DI_19567@www.lesfranqueses.cat
DTSTAMP:20260420T035623
DTSTART:20260510T113000
DTEND:20260510T123000
SUMMARY:Taller infantil: "Fem flors de tela"
LOCATION:Fira de Sant Ponç. 
METHOD:PUBLISH
X-WR-CALNAME:ajuntament@lesfranqueses.cat
X-WR-TIMEZONE:Europe/Madrid
DESCRIPTION:
URI:https://www.lesfranqueses.cat/actualitat/agenda/agenda-dactivitats/taller-infantil-fem-flors-de-tela.html
CLASS:PUBLIC
END:VEVENT
BEGIN:VEVENT
UID:DI_19609@www.lesfranqueses.cat
DTSTAMP:20260420T035623
DTSTART:20260512T173000
DTEND:20260512T173000
SUMMARY:Espai Zero. Tarda de creacions manuals
LOCATION:Carrer de Maria Elena Maseras, 1 08521 Les Franqueses del Vallès (Bellavista)
METHOD:PUBLISH
X-WR-CALNAME:ajuntament@lesfranqueses.cat
X-WR-TIMEZONE:Europe/Madrid
DESCRIPTION:
URI:https://www.lesfranqueses.cat/actualitat/agenda/agenda-dactivitats/19609-espai-zero-tarda-de-creacions-manuals.html
CLASS:PUBLIC
END:VEVENT
BEGIN:VEVENT
UID:DI_19577@www.lesfranqueses.cat
DTSTAMP:20260420T035623
DTSTART:20260512T180000
DTEND:20260512T180000
SUMMARY:Jornada de portes obertes: Institut Lauro - cicle formatiu de grau mitjà
LOCATION:Carrer de Maria Elena Maseras, 3 08520 Les Franqueses del Vallès (Bellavista)
METHOD:PUBLISH
X-WR-CALNAME:ajuntament@lesfranqueses.cat
X-WR-TIMEZONE:Europe/Madrid
DESCRIPTION:
URI:https://www.lesfranqueses.cat/actualitat/agenda/agenda-dactivitats/jornada-de-portes-obertes-institut-lauro-cicle-formatiu-de-grau-mitja.html
CLASS:PUBLIC
END:VEVENT
BEGIN:VEVENT
UID:DI_19648@www.lesfranqueses.cat
DTSTAMP:20260420T035623
DTSTART:20260512T180000
DTEND:20260512T180000
SUMMARY:Espais de Lectura. Tertúlia al voltant de l'obra 'Tan bonica i tirana', de Blanca Llum
LOCATION:Verge de Montserrat, 21 Les Franqueses del Vallès 08520 les Franqueses del Vallès
METHOD:PUBLISH
X-WR-CALNAME:ajuntament@lesfranqueses.cat
X-WR-TIMEZONE:Europe/Madrid
DESCRIPTION:
URI:https://www.lesfranqueses.cat/actualitat/agenda/agenda-dactivitats/espais-de-lectura-tertulia-al-voltant-de-lobra-tan-bonica-i-tirana-de-blanca-llum.html
CLASS:PUBLIC
END:VEVENT
BEGIN:VEVENT
UID:DI_19578@www.lesfranqueses.cat
DTSTAMP:20260420T035623
DTSTART:20260513T180000
DTEND:20260513T180000
SUMMARY:Jornada de portes obertes: Institut Lauro - cicle formatiu de grau superior
LOCATION:Carrer de Maria Elena Maseras, 3 08520 Les Franqueses del Vallès (Bellavista)
METHOD:PUBLISH
X-WR-CALNAME:ajuntament@lesfranqueses.cat
X-WR-TIMEZONE:Europe/Madrid
DESCRIPTION:
URI:https://www.lesfranqueses.cat/actualitat/agenda/agenda-dactivitats/jornada-de-portes-obertes-institut-lauro-cicle-formatiu-de-grau-superior.html
CLASS:PUBLIC
END:VEVENT
BEGIN:VEVENT
UID:DI_19612@www.lesfranqueses.cat
DTSTAMP:20260420T035623
DTSTART:20260514T173000
DTEND:20260514T173000
SUMMARY:Espai Zero. Construcció i taller de caixó flamenc
LOCATION:Carrer de Maria Elena Maseras, 1 08521 Les Franqueses del Vallès (Bellavista)
METHOD:PUBLISH
X-WR-CALNAME:ajuntament@lesfranqueses.cat
X-WR-TIMEZONE:Europe/Madrid
DESCRIPTION:
URI:https://www.lesfranqueses.cat/actualitat/agenda/agenda-dactivitats/19612-espai-zero-construccio-i-taller-de-caixo-flamenc.html
CLASS:PUBLIC
END:VEVENT
BEGIN:VEVENT
UID:DI_19651@www.lesfranqueses.cat
DTSTAMP:20260420T035623
DTSTART:20260514T173000
DTEND:20260514T173000
SUMMARY:Hora del conte nadons: "Sons de Colors"
LOCATION:Verge de Montserrat, 21 Les Franqueses del Vallès 08520 les Franqueses del Vallès
METHOD:PUBLISH
X-WR-CALNAME:ajuntament@lesfranqueses.cat
X-WR-TIMEZONE:Europe/Madrid
DESCRIPTION:
URI:https://www.lesfranqueses.cat/actualitat/agenda/agenda-dactivitats/hora-del-conte-nadons-sons-de-colors.html
CLASS:PUBLIC
END:VEVENT
BEGIN:VEVENT
UID:DI_19607@www.lesfranqueses.cat
DTSTAMP:20260420T035623
DTSTART:20260519T173000
DTEND:20260519T173000
SUMMARY:Espai Zero. Punt de trobada
LOCATION:Carrer de Maria Elena Maseras, 1 08521 Les Franqueses del Vallès (Bellavista)
METHOD:PUBLISH
X-WR-CALNAME:ajuntament@lesfranqueses.cat
X-WR-TIMEZONE:Europe/Madrid
DESCRIPTION:
URI:https://www.lesfranqueses.cat/actualitat/agenda/agenda-dactivitats/19607-espai-zero-punt-de-trobada.html
CLASS:PUBLIC
END:VEVENT
BEGIN:VEVENT
UID:DI_19583@www.lesfranqueses.cat
DTSTAMP:20260420T035623
DTSTART:20260521T110000
DTEND:20260521T190000
SUMMARY:Jornada de portes obertes: Centre de Formació d'Adults
LOCATION:Carrer del Rosselló, 35-37 08521 Les Franqueses del Vallès (Bellavista)
METHOD:PUBLISH
X-WR-CALNAME:ajuntament@lesfranqueses.cat
X-WR-TIMEZONE:Europe/Madrid
DESCRIPTION:
URI:https://www.lesfranqueses.cat/actualitat/agenda/agenda-dactivitats/jornada-de-portes-obertes-centre-de-formacio-dadults.html
CLASS:PUBLIC
END:VEVENT
BEGIN:VEVENT
UID:DI_19613@www.lesfranqueses.cat
DTSTAMP:20260420T035623
DTSTART:20260521T173000
DTEND:20260521T173000
SUMMARY:Espai Zero. Construcció i taller de caixó flamenc
LOCATION:Carrer de Maria Elena Maseras, 1 08521 Les Franqueses del Vallès (Bellavista)
METHOD:PUBLISH
X-WR-CALNAME:ajuntament@lesfranqueses.cat
X-WR-TIMEZONE:Europe/Madrid
DESCRIPTION:
URI:https://www.lesfranqueses.cat/actualitat/agenda/agenda-dactivitats/19613-espai-zero-construccio-i-taller-de-caixo-flamenc.html
CLASS:PUBLIC
END:VEVENT
BEGIN:VEVENT
UID:DI_19574@www.lesfranqueses.cat
DTSTAMP:20260420T035623
DTSTART:20260522T173000
DTEND:20260522T193000
SUMMARY:Xerrada: "Menstruar sense dolor. Com acompanyar la teva salut femenina per cuidar la teva filla"
LOCATION:Carrer Verge de Montserrat, 21, 08520 Corró d'Avall, Barcelona 08520 les Franqueses del Vallès
METHOD:PUBLISH
X-WR-CALNAME:ajuntament@lesfranqueses.cat
X-WR-TIMEZONE:Europe/Madrid
DESCRIPTION:
URI:https://www.lesfranqueses.cat/actualitat/agenda/agenda-dactivitats/xerrada-menstruar-sense-dolor-com-acompanyar-la-teva-salut-femenina-per-cuidar-la-teva-filla.html
CLASS:PUBLIC
END:VEVENT
BEGIN:VEVENT
UID:DI_19614@www.lesfranqueses.cat
DTSTAMP:20260420T035623
DTSTART:20260522T173000
DTEND:20260522T173000
SUMMARY:Espai Zero. Construcció i taller de caixó flamenc
LOCATION:Carrer de Maria Elena Maseras, 1 08521 Les Franqueses del Vallès (Bellavista)
METHOD:PUBLISH
X-WR-CALNAME:ajuntament@lesfranqueses.cat
X-WR-TIMEZONE:Europe/Madrid
DESCRIPTION:
URI:https://www.lesfranqueses.cat/actualitat/agenda/agenda-dactivitats/19614-espai-zero-construccio-i-taller-de-caixo-flamenc.html
CLASS:PUBLIC
END:VEVENT
BEGIN:VEVENT
UID:DI_19619@www.lesfranqueses.cat
DTSTAMP:20260420T035623
DTSTART:20260523T000000
DTEND:20260523T000000
SUMMARY:Sortides i colònies dels casals infantils - 3r trimestre del curs 2025-2026
LOCATION:Mas Gorgoll (Palamós) 
METHOD:PUBLISH
X-WR-CALNAME:ajuntament@lesfranqueses.cat
X-WR-TIMEZONE:Europe/Madrid
DESCRIPTION:
URI:https://www.lesfranqueses.cat/actualitat/agenda/agenda-dactivitats/sortides-i-colonies-dels-casals-infantils-3r-trimestre-del-curs-2025-2026.html
CLASS:PUBLIC
END:VEVENT
BEGIN:VEVENT
UID:DI_19652@www.lesfranqueses.cat
DTSTAMP:20260420T035623
DTSTART:20260525T173000
DTEND:20260525T173000
SUMMARY:Hora del conte +3: "Contes per plorar de riure"
LOCATION:Maria Elena Maseras, 1 Les Franqueses 08520 les Franqueses del Vallès
METHOD:PUBLISH
X-WR-CALNAME:ajuntament@lesfranqueses.cat
X-WR-TIMEZONE:Europe/Madrid
DESCRIPTION:
URI:https://www.lesfranqueses.cat/actualitat/agenda/agenda-dactivitats/hora-del-conte-3-contes-per-plorar-de-riure.html
CLASS:PUBLIC
END:VEVENT
BEGIN:VEVENT
UID:DI_19615@www.lesfranqueses.cat
DTSTAMP:20260420T035623
DTSTART:20260526T173000
DTEND:20260526T173000
SUMMARY:Espai Zero. Trivial sobre sexualitat
LOCATION:Carrer de Maria Elena Maseras, 1 08521 Les Franqueses del Vallès (Bellavista)
METHOD:PUBLISH
X-WR-CALNAME:ajuntament@lesfranqueses.cat
X-WR-TIMEZONE:Europe/Madrid
DESCRIPTION:
URI:https://www.lesfranqueses.cat/actualitat/agenda/agenda-dactivitats/espai-zero-trivial-sobre-sexualitat.html
CLASS:PUBLIC
END:VEVENT
BEGIN:VEVENT
UID:DI_19616@www.lesfranqueses.cat
DTSTAMP:20260420T035623
DTSTART:20260528T173000
DTEND:20260528T173000
SUMMARY:Espai Zero. Taller de llibretes
LOCATION:Carrer de Maria Elena Maseras, 1 08521 Les Franqueses del Vallès (Bellavista)
METHOD:PUBLISH
X-WR-CALNAME:ajuntament@lesfranqueses.cat
X-WR-TIMEZONE:Europe/Madrid
DESCRIPTION:
URI:https://www.lesfranqueses.cat/actualitat/agenda/agenda-dactivitats/espai-zero-taller-de-llibretes.html
CLASS:PUBLIC
END:VEVENT
BEGIN:VEVENT
UID:DI_19608@www.lesfranqueses.cat
DTSTAMP:20260420T035623
DTSTART:20260529T173000
DTEND:20260529T173000
SUMMARY:Espai Zero. Punt de trobada
LOCATION:Carrer de Maria Elena Maseras, 1 08521 Les Franqueses del Vallès (Bellavista)
METHOD:PUBLISH
X-WR-CALNAME:ajuntament@lesfranqueses.cat
X-WR-TIMEZONE:Europe/Madrid
DESCRIPTION:
URI:https://www.lesfranqueses.cat/actualitat/agenda/agenda-dactivitats/19608-espai-zero-punt-de-trobada.html
CLASS:PUBLIC
END:VEVENT
BEGIN:VEVENT
UID:DI_19568@www.lesfranqueses.cat
DTSTAMP:20260420T035623
DTSTART:20260529T180000
DTEND:20260529T180000
SUMMARY:Converses amb el present (ACTVITAT POSPOSADA)
LOCATION:Verge de Montserrat, 21 Les Franqueses del Vallès 08520 les Franqueses del Vallès
METHOD:PUBLISH
X-WR-CALNAME:ajuntament@lesfranqueses.cat
X-WR-TIMEZONE:Europe/Madrid
DESCRIPTION:
URI:https://www.lesfranqueses.cat/actualitat/agenda/agenda-dactivitats/converses-amb-el-present-actvitat-posposada.html
CLASS:PUBLIC
END:VEVENT
BEGIN:VEVENT
UID:DI_19569@www.lesfranqueses.cat
DTSTAMP:20260420T035623
DTSTART:20260531T090000
DTEND:20260531T140000
SUMMARY:Sortida cultural: "Visita al Castell i al recinte medieval d'Hostalric"
LOCATION:Maria Elena Maseras, 1 Les Franqueses 08520 les Franqueses del Vallès
METHOD:PUBLISH
X-WR-CALNAME:ajuntament@lesfranqueses.cat
X-WR-TIMEZONE:Europe/Madrid
DESCRIPTION:
URI:https://www.lesfranqueses.cat/actualitat/agenda/agenda-dactivitats/sortida-cultural-visita-al-castell-i-al-recinte-medieval-dhostalric.html
CLASS:PUBLIC
END:VEVENT
BEGIN:VEVENT
UID:DI_19637@www.lesfranqueses.cat
DTSTAMP:20260420T035623
DTSTART:20260607T100000
DTEND:20260607T140000
SUMMARY:Retaule de primavera 2026 
LOCATION:Carretera de Cànoves, s/n 08520 Les Franqueses del Vallès (Corró d'Amunt)
METHOD:PUBLISH
X-WR-CALNAME:ajuntament@lesfranqueses.cat
X-WR-TIMEZONE:Europe/Madrid
DESCRIPTION:
URI:https://www.lesfranqueses.cat/actualitat/agenda/agenda-dactivitats/retaule-de-primavera-2026-.html
CLASS:PUBLIC
END:VEVENT
BEGIN:VEVENT
UID:DI_19575@www.lesfranqueses.cat
DTSTAMP:20260420T035623
DTSTART:20260611T173000
DTEND:20260611T193000
SUMMARY:Taller pràctic: "El plaer està a les teves mans. Taller de sexualitat apoderadora"
LOCATION:Carrer Verge de Montserrat, 21, 08520 Corró d'Avall, Barcelona 08520 les Franqueses del Vallès
METHOD:PUBLISH
X-WR-CALNAME:ajuntament@lesfranqueses.cat
X-WR-TIMEZONE:Europe/Madrid
DESCRIPTION:
URI:https://www.lesfranqueses.cat/actualitat/agenda/agenda-dactivitats/taller-practic-el-plaer-esta-a-les-teves-mans-taller-de-sexualitat-apoderadora.html
CLASS:PUBLIC
END:VEVENT
BEGIN:VEVENT
UID:DI_19620@www.lesfranqueses.cat
DTSTAMP:20260420T035623
DTSTART:20260613T000000
DTEND:20260613T000000
SUMMARY:Sortides i colònies dels casals infantils - 3r trimestre del curs 2025-2026
LOCATION:Platja de Pineda de Mar 
METHOD:PUBLISH
X-WR-CALNAME:ajuntament@lesfranqueses.cat
X-WR-TIMEZONE:Europe/Madrid
DESCRIPTION:
URI:https://www.lesfranqueses.cat/actualitat/agenda/agenda-dactivitats/19620-sortides-i-colonies-dels-casals-infantils-3r-trimestre-del-curs-2025-2026.html
CLASS:PUBLIC
END:VEVENT
END:VCALENDAR
